BEGIN:VCALENDAR
VERSION:2.0
PRODID:-//Homewood Volunteer Ski Patrol - ECPv6.15.13//NONSGML v1.0//EN
CALSCALE:GREGORIAN
METHOD:PUBLISH
X-WR-CALNAME:Homewood Volunteer Ski Patrol
X-ORIGINAL-URL:https://homewoodskipatrol.org
X-WR-CALDESC:Events for Homewood Volunteer Ski Patrol
REFRESH-INTERVAL;VALUE=DURATION:PT1H
X-Robots-Tag:noindex
X-PUBLISHED-TTL:PT1H
BEGIN:VTIMEZONE
TZID:America/Los_Angeles
BEGIN:DAYLIGHT
TZOFFSETFROM:-0800
TZOFFSETTO:-0700
TZNAME:PDT
DTSTART:20230312T100000
END:DAYLIGHT
BEGIN:STANDARD
TZOFFSETFROM:-0700
TZOFFSETTO:-0800
TZNAME:PST
DTSTART:20231105T090000
END:STANDARD
BEGIN:DAYLIGHT
TZOFFSETFROM:-0800
TZOFFSETTO:-0700
TZNAME:PDT
DTSTART:20240310T100000
END:DAYLIGHT
BEGIN:STANDARD
TZOFFSETFROM:-0700
TZOFFSETTO:-0800
TZNAME:PST
DTSTART:20241103T090000
END:STANDARD
BEGIN:DAYLIGHT
TZOFFSETFROM:-0800
TZOFFSETTO:-0700
TZNAME:PDT
DTSTART:20250309T100000
END:DAYLIGHT
BEGIN:STANDARD
TZOFFSETFROM:-0700
TZOFFSETTO:-0800
TZNAME:PST
DTSTART:20251102T090000
END:STANDARD
BEGIN:DAYLIGHT
TZOFFSETFROM:-0800
TZOFFSETTO:-0700
TZNAME:PDT
DTSTART:20260308T100000
END:DAYLIGHT
BEGIN:STANDARD
TZOFFSETFROM:-0700
TZOFFSETTO:-0800
TZNAME:PST
DTSTART:20261101T090000
END:STANDARD
BEGIN:DAYLIGHT
TZOFFSETFROM:-0800
TZOFFSETTO:-0700
TZNAME:PDT
DTSTART:20270314T100000
END:DAYLIGHT
BEGIN:STANDARD
TZOFFSETFROM:-0700
TZOFFSETTO:-0800
TZNAME:PST
DTSTART:20271107T090000
END:STANDARD
END:VTIMEZONE
BEGIN:VEVENT
DTSTART;TZID=America/Los_Angeles:20260412T170000
DTEND;TZID=America/Los_Angeles:20260412T190000
DTSTAMP:20260423T152633
CREATED:20260113T222810Z
LAST-MODIFIED:20260113T223010Z
UID:1190-1776013200-1776020400@homewoodskipatrol.org
SUMMARY:HVSP End of Year BBQ - Following Sweep\, Location SS Parking Lot (Date Subject to Close)
DESCRIPTION:
URL:https://homewoodskipatrol.org/event/hvsp-end-of-year-bbq-following-sweep-location-ss-parking-lot-date-subject-to-close/
CATEGORIES:Social
END:VEVENT
BEGIN:VEVENT
DTSTART;TZID=America/Los_Angeles:20260321T170000
DTEND;TZID=America/Los_Angeles:20260321T190000
DTSTAMP:20260423T152633
CREATED:20260113T222538Z
LAST-MODIFIED:20260113T222922Z
UID:1188-1774112400-1774119600@homewoodskipatrol.org
SUMMARY:HVSP Beers n Brots - Following Sweep\, Location SS Parking Lot
DESCRIPTION:
URL:https://homewoodskipatrol.org/event/hvsp-beers-n-brots-following-sweep-location-ss-parking-lot/
CATEGORIES:Social
END:VEVENT
BEGIN:VEVENT
DTSTART;TZID=America/Los_Angeles:20260221T170000
DTEND;TZID=America/Los_Angeles:20260221T190000
DTSTAMP:20260423T152633
CREATED:20260113T222413Z
LAST-MODIFIED:20260113T222947Z
UID:1186-1771693200-1771700400@homewoodskipatrol.org
SUMMARY:HVSP Fiesta Social - Following Sweep\, Location TBD
DESCRIPTION:
URL:https://homewoodskipatrol.org/event/hvsp-fiesta-social-following-sweep-location-tbd/
CATEGORIES:Social
END:VEVENT
BEGIN:VEVENT
DTSTART;TZID=America/Los_Angeles:20240210T170000
DTEND;TZID=America/Los_Angeles:20240210T200000
DTSTAMP:20260423T152633
CREATED:20231218T204946Z
LAST-MODIFIED:20231218T204946Z
UID:968-1707584400-1707595200@homewoodskipatrol.org
SUMMARY:Mardis Gras Social
DESCRIPTION:
URL:https://homewoodskipatrol.org/event/mardis-gras-social/
CATEGORIES:Social
END:VEVENT
BEGIN:VEVENT
DTSTART;TZID=America/Los_Angeles:20240120T170000
DTEND;TZID=America/Los_Angeles:20240120T200000
DTSTAMP:20260423T152633
CREATED:20231218T205002Z
LAST-MODIFIED:20240109T224920Z
UID:966-1705770000-1705780800@homewoodskipatrol.org
SUMMARY:Potluck Social - RSVP to stromswold@sbcglobal.net by Jan 18th
DESCRIPTION:Potluck Social will be at the Stroms per usual – recommend carpooling as parking can be limited \n7017 9th Ave\, Tahoma. \nRSVP to stromswold@sbcglobal.net  by Jan 18
URL:https://homewoodskipatrol.org/event/potluck-social/
CATEGORIES:Social
END:VEVENT
END:VCALENDAR