BEGIN:VCALENDAR
VERSION:2.0
PRODID:-//Homewood Volunteer Ski Patrol - ECPv6.15.13//NONSGML v1.0//EN
CALSCALE:GREGORIAN
METHOD:PUBLISH
X-WR-CALNAME:Homewood Volunteer Ski Patrol
X-ORIGINAL-URL:https://homewoodskipatrol.org
X-WR-CALDESC:Events for Homewood Volunteer Ski Patrol
REFRESH-INTERVAL;VALUE=DURATION:PT1H
X-Robots-Tag:noindex
X-PUBLISHED-TTL:PT1H
BEGIN:VTIMEZONE
TZID:America/Los_Angeles
BEGIN:DAYLIGHT
TZOFFSETFROM:-0800
TZOFFSETTO:-0700
TZNAME:PDT
DTSTART:20230312T100000
END:DAYLIGHT
BEGIN:STANDARD
TZOFFSETFROM:-0700
TZOFFSETTO:-0800
TZNAME:PST
DTSTART:20231105T090000
END:STANDARD
BEGIN:DAYLIGHT
TZOFFSETFROM:-0800
TZOFFSETTO:-0700
TZNAME:PDT
DTSTART:20240310T100000
END:DAYLIGHT
BEGIN:STANDARD
TZOFFSETFROM:-0700
TZOFFSETTO:-0800
TZNAME:PST
DTSTART:20241103T090000
END:STANDARD
BEGIN:DAYLIGHT
TZOFFSETFROM:-0800
TZOFFSETTO:-0700
TZNAME:PDT
DTSTART:20250309T100000
END:DAYLIGHT
BEGIN:STANDARD
TZOFFSETFROM:-0700
TZOFFSETTO:-0800
TZNAME:PST
DTSTART:20251102T090000
END:STANDARD
END:VTIMEZONE
BEGIN:VEVENT
DTSTART;VALUE=DATE:20240224
DTEND;VALUE=DATE:20240226
DTSTAMP:20260423T170833
CREATED:20231218T204930Z
LAST-MODIFIED:20240103T175959Z
UID:964-1708732800-1708905599@homewoodskipatrol.org
SUMMARY:Toboggan Enhancement Seminar Weekend
DESCRIPTION:
URL:https://homewoodskipatrol.org/event/toboggan-enhancement-seminar-weekend-4/
CATEGORIES:Training
END:VEVENT
BEGIN:VEVENT
DTSTART;VALUE=DATE:20240210
DTEND;VALUE=DATE:20240212
DTSTAMP:20260423T170833
CREATED:20231218T204953Z
LAST-MODIFIED:20240103T175928Z
UID:962-1707523200-1707695999@homewoodskipatrol.org
SUMMARY:Toboggan Enhancement Seminar Weekend
DESCRIPTION:
URL:https://homewoodskipatrol.org/event/toboggan-enhancement-seminar-weekend-3/
CATEGORIES:Training
END:VEVENT
BEGIN:VEVENT
DTSTART;VALUE=DATE:20240120
DTEND;VALUE=DATE:20240122
DTSTAMP:20260423T170833
CREATED:20231218T205013Z
LAST-MODIFIED:20240112T220704Z
UID:960-1705708800-1705881599@homewoodskipatrol.org
SUMMARY:Toboggan Enhancement Seminar Weekend - Continue Sled Sign Offs +
DESCRIPTION:It could be a “fluid” year of getting folks signed off…but if there is enough terrain open and with a social event on the calendar this weekend\, it would be great to get as many of us signed off as we can.
URL:https://homewoodskipatrol.org/event/toboggan-enhancement-seminar-weekend-2/
CATEGORIES:Training
END:VEVENT
BEGIN:VEVENT
DTSTART;VALUE=DATE:20240106
DTEND;VALUE=DATE:20240108
DTSTAMP:20260423T170833
CREATED:20231218T205024Z
LAST-MODIFIED:20240103T215901Z
UID:958-1704499200-1704671999@homewoodskipatrol.org
SUMMARY:DELAYED/CANCELED - Toboggan Enhancement Seminar Weekend
DESCRIPTION:Sled work will be delayed until the mountain has sufficient coverage to operate
URL:https://homewoodskipatrol.org/event/toboggan-enhancement-seminar-weekend-1-patrol-refresher/
CATEGORIES:Training
END:VEVENT
BEGIN:VEVENT
DTSTART;TZID=America/Los_Angeles:20240102T070000
DTEND;TZID=America/Los_Angeles:20240102T140000
DTSTAMP:20260423T170833
CREATED:20231218T205349Z
LAST-MODIFIED:20231218T205500Z
UID:973-1704178800-1704204000@homewoodskipatrol.org
SUMMARY:OEC Cycle A Refresher - Make-Up
DESCRIPTION:
URL:https://homewoodskipatrol.org/event/oec-refresher-make-up/
CATEGORIES:Training
END:VEVENT
END:VCALENDAR