BEGIN:VCALENDAR
VERSION:2.0
PRODID:-//Homewood Volunteer Ski Patrol - ECPv6.15.13//NONSGML v1.0//EN
CALSCALE:GREGORIAN
METHOD:PUBLISH
X-ORIGINAL-URL:https://homewoodskipatrol.org
X-WR-CALDESC:Events for Homewood Volunteer Ski Patrol
REFRESH-INTERVAL;VALUE=DURATION:PT1H
X-Robots-Tag:noindex
X-PUBLISHED-TTL:PT1H
BEGIN:VTIMEZONE
TZID:America/Los_Angeles
BEGIN:DAYLIGHT
TZOFFSETFROM:-0800
TZOFFSETTO:-0700
TZNAME:PDT
DTSTART:20240310T100000
END:DAYLIGHT
BEGIN:STANDARD
TZOFFSETFROM:-0700
TZOFFSETTO:-0800
TZNAME:PST
DTSTART:20241103T090000
END:STANDARD
BEGIN:DAYLIGHT
TZOFFSETFROM:-0800
TZOFFSETTO:-0700
TZNAME:PDT
DTSTART:20250309T100000
END:DAYLIGHT
BEGIN:STANDARD
TZOFFSETFROM:-0700
TZOFFSETTO:-0800
TZNAME:PST
DTSTART:20251102T090000
END:STANDARD
BEGIN:DAYLIGHT
TZOFFSETFROM:-0800
TZOFFSETTO:-0700
TZNAME:PDT
DTSTART:20260308T100000
END:DAYLIGHT
BEGIN:STANDARD
TZOFFSETFROM:-0700
TZOFFSETTO:-0800
TZNAME:PST
DTSTART:20261101T090000
END:STANDARD
END:VTIMEZONE
BEGIN:VEVENT
DTSTART;VALUE=DATE:20251012
DTEND;VALUE=DATE:20251013
DTSTAMP:20260423T204821
CREATED:20250918T221654Z
LAST-MODIFIED:20250918T221654Z
UID:1164-1760227200-1760313599@homewoodskipatrol.org
SUMMARY:OEC - Instructors Refresher
DESCRIPTION:
URL:https://homewoodskipatrol.org/event/oec-instructors-refresher-2/
END:VEVENT
BEGIN:VEVENT
DTSTART;VALUE=DATE:20251018
DTEND;VALUE=DATE:20251020
DTSTAMP:20260423T204821
CREATED:20250918T221923Z
LAST-MODIFIED:20250918T221923Z
UID:1166-1760745600-1760918399@homewoodskipatrol.org
SUMMARY:OEC Annual Refresher & Awards Dinner 2025
DESCRIPTION:Refresher and Awards Dinner on Saturday \nChair evac on Sunday
URL:https://homewoodskipatrol.org/event/oec-annual-refresher-awards-dinner-2025/
END:VEVENT
END:VCALENDAR